Workbook

Sheet Einzel
B1: Meldung zur | J1: Geschlecht | K1: Bogenklasse | L1: Teilnahme
B2: Sportjahr | J2: männlich | K2: Recurve | L2: Ja
B3: Verein | J3: weiblich | K3: Compound | L3: Nein
B4: E-Mail | K4: Blank
B5: Bemerkungen | K5: Lang
K6: Traditionell
K7: Daumenring
A9: Name, Vorname | B9: Geburtsdatum | C9: Geschlecht | D9: Mitglieds-nummer | E9: Bogenklasse | F9: Teilnahme an der… | I9: Bemerkungen
F10: KM | G10: LM | H10: DM

Sheet Apollon
A1: Zähler | B1: StartNrT | C1: NameT | D1: VereinT | E1: Geb_datumT | F1: LandT | G1: KlasseT | H1: Pass_NrT | I1: VereinsNrVT | J1: Quali_Einzel
C2: =Einzel!A11 -> 0 | D2: =Einzel!$C$3 -> 0 | E2: =Einzel!B11 -> 0 | F2: =IF(Einzel!H11="Ja","BL",IF(Einzel!G11="Ja","BL-",IF(Einzel!F11="Ja"="BL+","Prüfen"))) -> FALSE | G2: {=_xlfn.IFS(Einzel!E11="Recurve",0,Einzel!E11="Compound",100,Einzel!E11="Blank",200,Einzel!E11="Lang",300,Einzel!E11="Traditionell",400,Einzel!E11="Daumenring",500)+_xlfn.IFS(Einzel!$C$2-YEAR(Einzel!B11)<11,24,Einzel!$C$2-YEAR(Einzel!B11)<13,22,Einzel!$C$2-YEAR(Einzel!B11)<15,20,Einzel!$C$2-YEAR(Einzel!B11)<18,30,Einzel!$C$2-YEAR(Einzel!B11)<21,40,Einzel!$C$2-YEAR(Einzel!B11)<50,10,Einzel!$C$2-YEAR(Einzel!B11)<66,12,Einzel!$C$2-YEAR(Einzel!B11)>65,14)+IF(Einzel!C11="männlich",0,1)} -> #N/A | H2: =Einzel!D11 -> 0 | I2: =LEFT(H2,3) -> 0
C3: =Einzel!A12 -> 0 | D3: =Einzel!$C$3 -> 0 | E3: =Einzel!B12 -> 0 | F3: =IF(Einzel!H12="Ja","BL",IF(Einzel!G12="Ja","BL-",IF(Einzel!F12="Ja"="BL+","Prüfen"))) -> FALSE | G3: {=_xlfn.IFS(Einzel!E12="Recurve",0,Einzel!E12="Compound",100,Einzel!E12="Blank",200,Einzel!E12="Lang",300,Einzel!E12="Traditionell",400,Einzel!E12="Daumenring",500)+_xlfn.IFS(Einzel!$C$2-YEAR(Einzel!B12)<11,24,Einzel!$C$2-YEAR(Einzel!B12)<13,22,Einzel!$C$2-YEAR(Einzel!B12)<15,20,Einzel!$C$2-YEAR(Einzel!B12)<18,30,Einzel!$C$2-YEAR(Einzel!B12)<21,40,Einzel!$C$2-YEAR(Einzel!B12)<50,10,Einzel!$C$2-YEAR(Einzel!B12)<66,12,Einzel!$C$2-YEAR(Einzel!B12)>65,14)+IF(Einzel!C12="männlich",0,1)} -> #N/A | H3: =Einzel!D12 -> 0 | I3: =LEFT(H3,3) -> 0
C4: =Einzel!A13 -> 0 | D4: =Einzel!$C$3 -> 0 | E4: =Einzel!B13 -> 0 | F4: =IF(Einzel!H13="Ja","BL",IF(Einzel!G13="Ja","BL-",IF(Einzel!F13="Ja"="BL+","Prüfen"))) -> FALSE | G4: {=_xlfn.IFS(Einzel!E13="Recurve",0,Einzel!E13="Compound",100,Einzel!E13="Blank",200,Einzel!E13="Lang",300,Einzel!E13="Traditionell",400,Einzel!E13="Daumenring",500)+_xlfn.IFS(Einzel!$C$2-YEAR(Einzel!B13)<11,24,Einzel!$C$2-YEAR(Einzel!B13)<13,22,Einzel!$C$2-YEAR(Einzel!B13)<15,20,Einzel!$C$2-YEAR(Einzel!B13)<18,30,Einzel!$C$2-YEAR(Einzel!B13)<21,40,Einzel!$C$2-YEAR(Einzel!B13)<50,10,Einzel!$C$2-YEAR(Einzel!B13)<66,12,Einzel!$C$2-YEAR(Einzel!B13)>65,14)+IF(Einzel!C13="männlich",0,1)} -> #N/A | H4: =Einzel!D13 -> 0 | I4: =LEFT(H4,3) -> 0
C5: =Einzel!A14 -> 0 | D5: =Einzel!$C$3 -> 0 | E5: =Einzel!B14 -> 0 | F5: =IF(Einzel!H14="Ja","BL",IF(Einzel!G14="Ja","BL-",IF(Einzel!F14="Ja"="BL+","Prüfen"))) -> FALSE | G5: {=_xlfn.IFS(Einzel!E14="Recurve",0,Einzel!E14="Compound",100,Einzel!E14="Blank",200,Einzel!E14="Lang",300,Einzel!E14="Traditionell",400,Einzel!E14="Daumenring",500)+_xlfn.IFS(Einzel!$C$2-YEAR(Einzel!B14)<11,24,Einzel!$C$2-YEAR(Einzel!B14)<13,22,Einzel!$C$2-YEAR(Einzel!B14)<15,20,Einzel!$C$2-YEAR(Einzel!B14)<18,30,Einzel!$C$2-YEAR(Einzel!B14)<21,40,Einzel!$C$2-YEAR(Einzel!B14)<50,10,Einzel!$C$2-YEAR(Einzel!B14)<66,12,Einzel!$C$2-YEAR(Einzel!B14)>65,14)+IF(Einzel!C14="männlich",0,1)} -> #N/A | H5: =Einzel!D14 -> 0 | I5: =LEFT(H5,3) -> 0
C6: =Einzel!A15 -> 0 | D6: =Einzel!$C$3 -> 0 | E6: =Einzel!B15 -> 0 | F6: =IF(Einzel!H15="Ja","BL",IF(Einzel!G15="Ja","BL-",IF(Einzel!F15="Ja"="BL+","Prüfen"))) -> FALSE | G6: {=_xlfn.IFS(Einzel!E15="Recurve",0,Einzel!E15="Compound",100,Einzel!E15="Blank",200,Einzel!E15="Lang",300,Einzel!E15="Traditionell",400,Einzel!E15="Daumenring",500)+_xlfn.IFS(Einzel!$C$2-YEAR(Einzel!B15)<11,24,Einzel!$C$2-YEAR(Einzel!B15)<13,22,Einzel!$C$2-YEAR(Einzel!B15)<15,20,Einzel!$C$2-YEAR(Einzel!B15)<18,30,Einzel!$C$2-YEAR(Einzel!B15)<21,40,Einzel!$C$2-YEAR(Einzel!B15)<50,10,Einzel!$C$2-YEAR(Einzel!B15)<66,12,Einzel!$C$2-YEAR(Einzel!B15)>65,14)+IF(Einzel!C15="männlich",0,1)} -> #N/A | H6: =Einzel!D15 -> 0 | I6: =LEFT(H6,3) -> 0
C7: =Einzel!A16 -> 0 | D7: =Einzel!$C$3 -> 0 | E7: =Einzel!B16 -> 0 | F7: =IF(Einzel!H16="Ja","BL",IF(Einzel!G16="Ja","BL-",IF(Einzel!F16="Ja"="BL+","Prüfen"))) -> FALSE | G7: {=_xlfn.IFS(Einzel!E16="Recurve",0,Einzel!E16="Compound",100,Einzel!E16="Blank",200,Einzel!E16="Lang",300,Einzel!E16="Traditionell",400,Einzel!E16="Daumenring",500)+_xlfn.IFS(Einzel!$C$2-YEAR(Einzel!B16)<11,24,Einzel!$C$2-YEAR(Einzel!B16)<13,22,Einzel!$C$2-YEAR(Einzel!B16)<15,20,Einzel!$C$2-YEAR(Einzel!B16)<18,30,Einzel!$C$2-YEAR(Einzel!B16)<21,40,Einzel!$C$2-YEAR(Einzel!B16)<50,10,Einzel!$C$2-YEAR(Einzel!B16)<66,12,Einzel!$C$2-YEAR(Einzel!B16)>65,14)+IF(Einzel!C16="männlich",0,1)} -> #N/A | H7: =Einzel!D16 -> 0 | I7: =LEFT(H7,3) -> 0
C8: =Einzel!A17 -> 0 | D8: =Einzel!$C$3 -> 0 | E8: =Einzel!B17 -> 0 | F8: =IF(Einzel!H17="Ja","BL",IF(Einzel!G17="Ja","BL-",IF(Einzel!F17="Ja"="BL+","Prüfen"))) -> FALSE | G8: {=_xlfn.IFS(Einzel!E17="Recurve",0,Einzel!E17="Compound",100,Einzel!E17="Blank",200,Einzel!E17="Lang",300,Einzel!E17="Traditionell",400,Einzel!E17="Daumenring",500)+_xlfn.IFS(Einzel!$C$2-YEAR(Einzel!B17)<11,24,Einzel!$C$2-YEAR(Einzel!B17)<13,22,Einzel!$C$2-YEAR(Einzel!B17)<15,20,Einzel!$C$2-YEAR(Einzel!B17)<18,30,Einzel!$C$2-YEAR(Einzel!B17)<21,40,Einzel!$C$2-YEAR(Einzel!B17)<50,10,Einzel!$C$2-YEAR(Einzel!B17)<66,12,Einzel!$C$2-YEAR(Einzel!B17)>65,14)+IF(Einzel!C17="männlich",0,1)} -> #N/A | H8: =Einzel!D17 -> 0 | I8: =LEFT(H8,3) -> 0
C9: =Einzel!A18 -> 0 | D9: =Einzel!$C$3 -> 0 | E9: =Einzel!B18 -> 0 | F9: =IF(Einzel!H18="Ja","BL",IF(Einzel!G18="Ja","BL-",IF(Einzel!F18="Ja"="BL+","Prüfen"))) -> FALSE | G9: {=_xlfn.IFS(Einzel!E18="Recurve",0,Einzel!E18="Compound",100,Einzel!E18="Blank",200,Einzel!E18="Lang",300,Einzel!E18="Traditionell",400,Einzel!E18="Daumenring",500)+_xlfn.IFS(Einzel!$C$2-YEAR(Einzel!B18)<11,24,Einzel!$C$2-YEAR(Einzel!B18)<13,22,Einzel!$C$2-YEAR(Einzel!B18)<15,20,Einzel!$C$2-YEAR(Einzel!B18)<18,30,Einzel!$C$2-YEAR(Einzel!B18)<21,40,Einzel!$C$2-YEAR(Einzel!B18)<50,10,Einzel!$C$2-YEAR(Einzel!B18)<66,12,Einzel!$C$2-YEAR(Einzel!B18)>65,14)+IF(Einzel!C18="männlich",0,1)} -> #N/A | H9: =Einzel!D18 -> 0 | I9: =LEFT(H9,3) -> 0
C10: =Einzel!A19 -> 0 | D10: =Einzel!$C$3 -> 0 | E10: =Einzel!B19 -> 0 | F10: =IF(Einzel!H19="Ja","BL",IF(Einzel!G19="Ja","BL-",IF(Einzel!F19="Ja"="BL+","Prüfen"))) -> FALSE | G10: {=_xlfn.IFS(Einzel!E19="Recurve",0,Einzel!E19="Compound",100,Einzel!E19="Blank",200,Einzel!E19="Lang",300,Einzel!E19="Traditionell",400,Einzel!E19="Daumenring",500)+_xlfn.IFS(Einzel!$C$2-YEAR(Einzel!B19)<11,24,Einzel!$C$2-YEAR(Einzel!B19)<13,22,Einzel!$C$2-YEAR(Einzel!B19)<15,20,Einzel!$C$2-YEAR(Einzel!B19)<18,30,Einzel!$C$2-YEAR(Einzel!B19)<21,40,Einzel!$C$2-YEAR(Einzel!B19)<50,10,Einzel!$C$2-YEAR(Einzel!B19)<66,12,Einzel!$C$2-YEAR(Einzel!B19)>65,14)+IF(Einzel!C19="männlich",0,1)} -> #N/A | H10: =Einzel!D19 -> 0 | I10: =LEFT(H10,3) -> 0
C11: =Einzel!A20 -> 0 | D11: =Einzel!$C$3 -> 0 | E11: =Einzel!B20 -> 0 | F11: =IF(Einzel!H20="Ja","BL",IF(Einzel!G20="Ja","BL-",IF(Einzel!F20="Ja"="BL+","Prüfen"))) -> FALSE | G11: {=_xlfn.IFS(Einzel!E20="Recurve",0,Einzel!E20="Compound",100,Einzel!E20="Blank",200,Einzel!E20="Lang",300,Einzel!E20="Traditionell",400,Einzel!E20="Daumenring",500)+_xlfn.IFS(Einzel!$C$2-YEAR(Einzel!B20)<11,24,Einzel!$C$2-YEAR(Einzel!B20)<13,22,Einzel!$C$2-YEAR(Einzel!B20)<15,20,Einzel!$C$2-YEAR(Einzel!B20)<18,30,Einzel!$C$2-YEAR(Einzel!B20)<21,40,Einzel!$C$2-YEAR(Einzel!B20)<50,10,Einzel!$C$2-YEAR(Einzel!B20)<66,12,Einzel!$C$2-YEAR(Einzel!B20)>65,14)+IF(Einzel!C20="männlich",0,1)} -> #N/A | H11: =Einzel!D20 -> 0 | I11: =LEFT(H11,3) -> 0
C12: =Einzel!A21 -> 0 | D12: =Einzel!$C$3 -> 0 | E12: =Einzel!B21 -> 0 | F12: =IF(Einzel!H21="Ja","BL",IF(Einzel!G21="Ja","BL-",IF(Einzel!F21="Ja"="BL+","Prüfen"))) -> FALSE | G12: {=_xlfn.IFS(Einzel!E21="Recurve",0,Einzel!E21="Compound",100,Einzel!E21="Blank",200,Einzel!E21="Lang",300,Einzel!E21="Traditionell",400,Einzel!E21="Daumenring",500)+_xlfn.IFS(Einzel!$C$2-YEAR(Einzel!B21)<11,24,Einzel!$C$2-YEAR(Einzel!B21)<13,22,Einzel!$C$2-YEAR(Einzel!B21)<15,20,Einzel!$C$2-YEAR(Einzel!B21)<18,30,Einzel!$C$2-YEAR(Einzel!B21)<21,40,Einzel!$C$2-YEAR(Einzel!B21)<50,10,Einzel!$C$2-YEAR(Einzel!B21)<66,12,Einzel!$C$2-YEAR(Einzel!B21)>65,14)+IF(Einzel!C21="männlich",0,1)} -> #N/A | H12: =Einzel!D21 -> 0 | I12: =LEFT(H12,3) -> 0
C13: =Einzel!A22 -> 0 | D13: =Einzel!$C$3 -> 0 | E13: =Einzel!B22 -> 0 | F13: =IF(Einzel!H22="Ja","BL",IF(Einzel!G22="Ja","BL-",IF(Einzel!F22="Ja"="BL+","Prüfen"))) -> FALSE | G13: {=_xlfn.IFS(Einzel!E22="Recurve",0,Einzel!E22="Compound",100,Einzel!E22="Blank",200,Einzel!E22="Lang",300,Einzel!E22="Traditionell",400,Einzel!E22="Daumenring",500)+_xlfn.IFS(Einzel!$C$2-YEAR(Einzel!B22)<11,24,Einzel!$C$2-YEAR(Einzel!B22)<13,22,Einzel!$C$2-YEAR(Einzel!B22)<15,20,Einzel!$C$2-YEAR(Einzel!B22)<18,30,Einzel!$C$2-YEAR(Einzel!B22)<21,40,Einzel!$C$2-YEAR(Einzel!B22)<50,10,Einzel!$C$2-YEAR(Einzel!B22)<66,12,Einzel!$C$2-YEAR(Einzel!B22)>65,14)+IF(Einzel!C22="männlich",0,1)} -> #N/A | H13: =Einzel!D22 -> 0 | I13: =LEFT(H13,3) -> 0
... C44: =Einzel!A53 -> 0 | D44: =Einzel!$C$3 -> 0 | E44: =Einzel!B53 -> 0 | F44: =IF(Einzel!H53="Ja","BL",IF(Einzel!G53="Ja","BL-",IF(Einzel!F53="Ja"="BL+","Prüfen"))) -> FALSE | G44: {=_xlfn.IFS(Einzel!E53="Recurve",0,Einzel!E53="Compound",100,Einzel!E53="Blank",200,Einzel!E53="Lang",300,Einzel!E53="Traditionell",400,Einzel!E53="Daumenring",500)+_xlfn.IFS(Einzel!$C$2-YEAR(Einzel!B53)<11,24,Einzel!$C$2-YEAR(Einzel!B53)<13,22,Einzel!$C$2-YEAR(Einzel!B53)<15,20,Einzel!$C$2-YEAR(Einzel!B53)<18,30,Einzel!$C$2-YEAR(Einzel!B53)<21,40,Einzel!$C$2-YEAR(Einzel!B53)<50,10,Einzel!$C$2-YEAR(Einzel!B53)<66,12,Einzel!$C$2-YEAR(Einzel!B53)>65,14)+IF(Einzel!C53="männlich",0,1)} -> #N/A | H44: =Einzel!D53 -> 0 | I44: =LEFT(H44,3) -> 0
